BEGIN:VCALENDAR
VERSION:2.0
PRODID:-//Biserica Crestina Golgota - ECPv6.6.2//NONSGML v1.0//EN
CALSCALE:GREGORIAN
METHOD:PUBLISH
X-ORIGINAL-URL:https://golgotabraila.com
X-WR-CALDESC:Events for Biserica Crestina Golgota
REFRESH-INTERVAL;VALUE=DURATION:PT1H
X-Robots-Tag:noindex
X-PUBLISHED-TTL:PT1H
BEGIN:VTIMEZONE
TZID:Europe/Bucharest
BEGIN:DAYLIGHT
TZOFFSETFROM:+0200
TZOFFSETTO:+0300
TZNAME:EEST
DTSTART:20270328T010000
END:DAYLIGHT
BEGIN:STANDARD
TZOFFSETFROM:+0300
TZOFFSETTO:+0200
TZNAME:EET
DTSTART:20271031T010000
END:STANDARD
END:VTIMEZONE
BEGIN:VEVENT
DTSTART;TZID=Europe/Bucharest:20270131T090000
DTEND;TZID=Europe/Bucharest:20270131T113000
DTSTAMP:20260420T111816
CREATED:20240822T204539Z
LAST-MODIFIED:20240822T204539Z
UID:988671-1801386000-1801395000@golgotabraila.com
SUMMARY:Slujba Duminica Dimineata
DESCRIPTION:
URL:https://golgotabraila.com/event/slujba-duminica-dimineata-99/
LOCATION:Biserica Golgota\, Str. Rosiori nr.246\, Braila\, Braila\, Romania
END:VEVENT
BEGIN:VEVENT
DTSTART;TZID=Europe/Bucharest:20270131T170000
DTEND;TZID=Europe/Bucharest:20270131T190000
DTSTAMP:20260420T111816
CREATED:20240822T204554Z
LAST-MODIFIED:20240822T204554Z
UID:988672-1801414800-1801422000@golgotabraila.com
SUMMARY:Slujba Duminica Seara
DESCRIPTION:
URL:https://golgotabraila.com/event/slujba-duminica-seara-128/
LOCATION:Biserica Golgota\, Str. Rosiori nr.246\, Braila\, Braila\, Romania
END:VEVENT
END:VCALENDAR